BEGIN:VCALENDAR
VERSION:2.0
PRODID:-//127.0.1.1//NONSGML kigkonsult.se iCalcreator 2.41.92//
CALSCALE:GREGORIAN
METHOD:PUBLISH
UID:32313230-3933-4337-b331-633436386231
X-WR-CALNAME:Concurrent Programming Calendar
X-WR-CALDESC:Events of the lecture Concurrent Programming
X-WR-TIMEZONE:Europe/Berlin
BEGIN:VEVENT
UID:66303233-3436-4362-b638-336566613637
DTSTAMP:20260425T181742Z
DESCRIPTION:
DTSTART:20250423T061500Z
DTEND:20250423T080000Z
LOCATION:E1 3: SR 014\, SR 015\, SR 016
SUMMARY:Tutorial A
END:VEVENT
BEGIN:VEVENT
UID:35666361-6635-4163-a635-313735343436
DTSTAMP:20260425T181742Z
DESCRIPTION:
DTSTART:20250423T081500Z
DTEND:20250423T100000Z
LOCATION:E1 3: SR 014\, SR 015\, SR 016
SUMMARY:Tutorial A
END:VEVENT
BEGIN:VEVENT
UID:62316234-6363-4064-a536-363237623538
DTSTAMP:20260425T181742Z
DESCRIPTION:
DTSTART:20250430T061500Z
DTEND:20250430T080000Z
LOCATION:E1 3: SR 014\, SR 015\, SR 016
SUMMARY:Tutorial B
END:VEVENT
BEGIN:VEVENT
UID:34616566-3065-4138-b035-643531366235
DTSTAMP:20260425T181742Z
DESCRIPTION:
DTSTART:20250430T081500Z
DTEND:20250430T100000Z
LOCATION:E1 3: SR 014\, SR 015\, SR 016
SUMMARY:Tutorial B
END:VEVENT
BEGIN:VEVENT
UID:37343064-6463-4036-b934-376566633936
DTSTAMP:20260425T181742Z
DESCRIPTION:
DTSTART:20250507T061500Z
DTEND:20250507T080000Z
LOCATION:E1 3: SR 014\, SR 015\, SR 016
SUMMARY:Tutorial C
END:VEVENT
BEGIN:VEVENT
UID:62666161-3138-4837-b961-316132316461
DTSTAMP:20260425T181742Z
DESCRIPTION:
DTSTART:20250507T081500Z
DTEND:20250507T100000Z
LOCATION:E1 3: SR 014\, SR 015\, SR 016
SUMMARY:Tutorial C
END:VEVENT
BEGIN:VEVENT
UID:64613738-3465-4562-a538-373833373766
DTSTAMP:20260425T181742Z
DESCRIPTION:
DTSTART:20250514T061500Z
DTEND:20250514T080000Z
LOCATION:E1 3: SR 014\, SR 015\, SR 016
SUMMARY:Tutorial D
END:VEVENT
BEGIN:VEVENT
UID:65643562-6262-4935-b563-663937643936
DTSTAMP:20260425T181742Z
DESCRIPTION:
DTSTART:20250514T081500Z
DTEND:20250514T100000Z
LOCATION:E1 3: SR 014\, SR 015\, SR 016
SUMMARY:Tutorial D
END:VEVENT
BEGIN:VEVENT
UID:32343662-6430-4166-a431-396339663834
DTSTAMP:20260425T181742Z
DESCRIPTION:
DTSTART:20250604T061500Z
DTEND:20250604T080000Z
LOCATION:E1 3: SR 014\, SR 015\, SR 016
SUMMARY:Tutorial E
END:VEVENT
BEGIN:VEVENT
UID:32643961-6564-4533-a463-353134386461
DTSTAMP:20260425T181742Z
DESCRIPTION:
DTSTART:20250604T081500Z
DTEND:20250604T100000Z
LOCATION:E1 3: SR 014\, SR 015\, SR 016
SUMMARY:Tutorial E
END:VEVENT
BEGIN:VEVENT
UID:36313138-3335-4331-b938-346363326166
DTSTAMP:20260425T181742Z
DESCRIPTION:
DTSTART:20250611T061500Z
DTEND:20250611T080000Z
LOCATION:E1 3: SR 014\, SR 015\, SR 016
SUMMARY:Tutorial F
END:VEVENT
BEGIN:VEVENT
UID:34323463-3234-4134-b934-333436343533
DTSTAMP:20260425T181742Z
DESCRIPTION:
DTSTART:20250611T081500Z
DTEND:20250611T100000Z
LOCATION:E1 3: SR 014\, SR 015\, SR 016
SUMMARY:Tutorial F
END:VEVENT
BEGIN:VEVENT
UID:31383262-6638-4937-b832-613666333138
DTSTAMP:20260425T181742Z
DESCRIPTION:
DTSTART:20250625T061500Z
DTEND:20250625T080000Z
LOCATION:E1 3: SR 014\, SR 015\, SR 016
SUMMARY:Tutorial G
END:VEVENT
BEGIN:VEVENT
UID:35663139-6262-4633-b930-363635646539
DTSTAMP:20260425T181742Z
DESCRIPTION:
DTSTART:20250625T081500Z
DTEND:20250625T100000Z
LOCATION:E1 3: SR 014\, SR 015\, SR 016
SUMMARY:Tutorial G
END:VEVENT
BEGIN:VEVENT
UID:65633661-6365-4664-a131-383061646235
DTSTAMP:20260425T181742Z
DESCRIPTION:
DTSTART:20250702T061500Z
DTEND:20250702T080000Z
LOCATION:E1 3: SR 014\, SR 015\, SR 016
SUMMARY:Tutorial H
END:VEVENT
BEGIN:VEVENT
UID:34386131-6362-4331-a364-353635623038
DTSTAMP:20260425T181742Z
DESCRIPTION:
DTSTART:20250702T081500Z
DTEND:20250702T100000Z
LOCATION:E1 3: SR 014\, SR 015\, SR 016
SUMMARY:Tutorial H
END:VEVENT
END:VCALENDAR
