BEGIN:VCALENDAR
VERSION:2.0
PRODID:-//127.0.1.1//NONSGML kigkonsult.se iCalcreator 2.41.92//
CALSCALE:GREGORIAN
METHOD:PUBLISH
UID:32353032-6236-4561-a331-376366653765
X-WR-CALNAME:Concurrent Programming Calendar
X-WR-CALDESC:Events of the lecture Concurrent Programming
X-WR-TIMEZONE:Europe/Berlin
BEGIN:VEVENT
UID:63623637-3865-4834-a561-343035666430
DTSTAMP:20260425T170504Z
DESCRIPTION:
DTSTART:20250408T081500Z
DTEND:20250408T100000Z
LOCATION:E1 3: LH002
SUMMARY:Cp: Lecture A1
END:VEVENT
BEGIN:VEVENT
UID:61353534-6265-4930-b264-343530346130
DTSTAMP:20260425T170504Z
DESCRIPTION:
DTSTART:20250414T121500Z
DTEND:20250414T140000Z
LOCATION:E1 3: LH002
SUMMARY:Cp: Lecture A2
END:VEVENT
BEGIN:VEVENT
UID:61623266-6464-4265-b930-333239356439
DTSTAMP:20260425T170504Z
DESCRIPTION:
DTSTART:20250415T081500Z
DTEND:20250415T100000Z
LOCATION:E1 3: LH002
SUMMARY:Cp: Lecture B1
END:VEVENT
BEGIN:VEVENT
UID:61646661-6230-4634-b534-323036333535
DTSTAMP:20260425T170504Z
DESCRIPTION:
DTSTART:20250422T081500Z
DTEND:20250422T100000Z
LOCATION:E1 3: LH002
SUMMARY:Cp: Lecture B2
END:VEVENT
BEGIN:VEVENT
UID:30393436-3065-4535-b939-366664316464
DTSTAMP:20260425T170504Z
DESCRIPTION:
DTSTART:20250428T121500Z
DTEND:20250428T140000Z
LOCATION:E1 3: LH002
SUMMARY:Cp: Lecture C1
END:VEVENT
BEGIN:VEVENT
UID:37393863-6665-4665-b636-313134626639
DTSTAMP:20260425T170504Z
DESCRIPTION:
DTSTART:20250429T081500Z
DTEND:20250429T100000Z
LOCATION:E1 3: LH002
SUMMARY:Cp: Lecture C2
END:VEVENT
BEGIN:VEVENT
UID:35656339-3432-4063-b866-613834633937
DTSTAMP:20260425T170504Z
DESCRIPTION:
DTSTART:20250505T121500Z
DTEND:20250505T140000Z
LOCATION:E1 3: LH002
SUMMARY:Cp: Lecture D1
END:VEVENT
BEGIN:VEVENT
UID:66313665-3136-4765-b637-303339366361
DTSTAMP:20260425T170504Z
DESCRIPTION:
DTSTART:20250506T081500Z
DTEND:20250506T100000Z
LOCATION:E1 3: LH002
SUMMARY:Cp: Lecture D2
END:VEVENT
BEGIN:VEVENT
UID:30333731-6531-4330-b063-346466636631
DTSTAMP:20260425T170504Z
DESCRIPTION:
DTSTART:20250512T121500Z
DTEND:20250512T140000Z
LOCATION:E1 3: LH002
SUMMARY:Cp: Q & A Sesstion
END:VEVENT
BEGIN:VEVENT
UID:35663965-3666-4537-b733-363765626565
DTSTAMP:20260425T170504Z
DESCRIPTION:
DTSTART:20250526T121500Z
DTEND:20250526T140000Z
LOCATION:E1 3: LH002
SUMMARY:Cp: Lecture E1
END:VEVENT
BEGIN:VEVENT
UID:30653262-3730-4436-b233-303132663030
DTSTAMP:20260425T170504Z
DESCRIPTION:
DTSTART:20250527T081500Z
DTEND:20250527T100000Z
LOCATION:E1 3: LH002
SUMMARY:Cp: Lecture E2
END:VEVENT
BEGIN:VEVENT
UID:62653833-6538-4231-b961-356335653562
DTSTAMP:20260425T170504Z
DESCRIPTION:
DTSTART:20250602T121500Z
DTEND:20250602T140000Z
LOCATION:E1 3: LH002
SUMMARY:Cp: Lecture F1
END:VEVENT
BEGIN:VEVENT
UID:31656364-3537-4266-b966-353364373262
DTSTAMP:20260425T170504Z
DESCRIPTION:
DTSTART:20250603T081500Z
DTEND:20250603T100000Z
LOCATION:E1 3: LH002
SUMMARY:Cp: Lecture F2
END:VEVENT
BEGIN:VEVENT
UID:38376138-6165-4230-b036-396263623933
DTSTAMP:20260425T170504Z
DESCRIPTION:
DTSTART:20250616T121500Z
DTEND:20250616T140000Z
LOCATION:E1 3: LH002
SUMMARY:Cp: Lecture G1
END:VEVENT
BEGIN:VEVENT
UID:63663437-6137-4432-a564-663361343335
DTSTAMP:20260425T170504Z
DESCRIPTION:
DTSTART:20250617T081500Z
DTEND:20250617T100000Z
LOCATION:E1 3: LH002
SUMMARY:Cp: Lecture G2
END:VEVENT
BEGIN:VEVENT
UID:37333136-3261-4866-b637-383561633034
DTSTAMP:20260425T170504Z
DESCRIPTION:
DTSTART:20250623T121500Z
DTEND:20250623T140000Z
LOCATION:E1 3: LH002
SUMMARY:Cp: Lecture H1
END:VEVENT
BEGIN:VEVENT
UID:36353061-6639-4862-b365-666232306361
DTSTAMP:20260425T170504Z
DESCRIPTION:
DTSTART:20250624T081500Z
DTEND:20250624T100000Z
LOCATION:E1 3: LH002
SUMMARY:Cp: Lecture H2
END:VEVENT
BEGIN:VEVENT
UID:34326561-3163-4731-a438-313837393732
DTSTAMP:20260425T170504Z
DESCRIPTION:
DTSTART:20250630T121500Z
DTEND:20250630T140000Z
LOCATION:E1 3: LH002
SUMMARY:Cp: Lecture H3 / Project Presentation
END:VEVENT
END:VCALENDAR
