BEGIN:VCALENDAR
VERSION:2.0
PRODID:-//127.0.1.1//NONSGML kigkonsult.se iCalcreator 2.41.92//
CALSCALE:GREGORIAN
METHOD:PUBLISH
UID:33663433-3530-4630-b961-636433386262
X-WR-CALNAME:Concurrent Programming Calendar
X-WR-CALDESC:Events of the lecture Concurrent Programming
X-WR-TIMEZONE:Europe/Berlin
BEGIN:VEVENT
UID:38306563-3764-4635-b163-633737323033
DTSTAMP:20260425T170144Z
DESCRIPTION:
DTSTART:20250408T081500Z
DTEND:20250408T100000Z
LOCATION:E1 3: LH002
SUMMARY:Lecture A1
END:VEVENT
BEGIN:VEVENT
UID:38323164-3465-4365-b535-366534326436
DTSTAMP:20260425T170144Z
DESCRIPTION:
DTSTART:20250414T121500Z
DTEND:20250414T140000Z
LOCATION:E1 3: LH002
SUMMARY:Lecture A2
END:VEVENT
BEGIN:VEVENT
UID:62306536-6630-4165-b462-333937383965
DTSTAMP:20260425T170144Z
DESCRIPTION:
DTSTART:20250415T081500Z
DTEND:20250415T100000Z
LOCATION:E1 3: LH002
SUMMARY:Lecture B1
END:VEVENT
BEGIN:VEVENT
UID:65336462-3037-4432-a234-623531363037
DTSTAMP:20260425T170144Z
DESCRIPTION:
DTSTART:20250417T120000Z
DTEND:20250417T140000Z
LOCATION:E1 3: SR 015
SUMMARY:Concurrency Café
END:VEVENT
BEGIN:VEVENT
UID:36363962-3465-4234-a333-383962616164
DTSTAMP:20260425T170144Z
DESCRIPTION:
DTSTART;VALUE=DATE:20250421
DTEND;VALUE=DATE:20250422
SUMMARY:Colloquium A
END:VEVENT
BEGIN:VEVENT
UID:32386165-3565-4232-b139-643161386561
DTSTAMP:20260425T170144Z
DESCRIPTION:
DTSTART;VALUE=DATE:20250422
DTEND;VALUE=DATE:20250423
SUMMARY:Colloquium A
END:VEVENT
BEGIN:VEVENT
UID:34313031-3763-4766-b863-303961373134
DTSTAMP:20260425T170144Z
DESCRIPTION:
DTSTART:20250422T081500Z
DTEND:20250422T100000Z
LOCATION:E1 3: LH002
SUMMARY:Lecture B2
END:VEVENT
BEGIN:VEVENT
UID:33633438-3432-4864-a139-316164306661
DTSTAMP:20260425T170144Z
DESCRIPTION:
DTSTART:20250423T061500Z
DTEND:20250423T080000Z
LOCATION:E1 3: SR 014\, SR 015\, SR 016
SUMMARY:Tutorial A
END:VEVENT
BEGIN:VEVENT
UID:39643239-3665-4032-b530-383439356266
DTSTAMP:20260425T170144Z
DESCRIPTION:
DTSTART:20250423T081500Z
DTEND:20250423T100000Z
LOCATION:E1 3: SR 014\, SR 015\, SR 016
SUMMARY:Tutorial A
END:VEVENT
BEGIN:VEVENT
UID:39326636-3934-4132-a366-303235666562
DTSTAMP:20260425T170144Z
DESCRIPTION:
DTSTART:20250424T120000Z
DTEND:20250424T140000Z
LOCATION:E1 3: SR 015
SUMMARY:Concurrency Café
END:VEVENT
BEGIN:VEVENT
UID:34363532-3538-4965-b565-383731326332
DTSTAMP:20260425T170144Z
DESCRIPTION:
DTSTART:20250425T120000Z
DTEND:20250425T140000Z
LOCATION:E1 3: SR 015
SUMMARY:Concurrency Café
END:VEVENT
BEGIN:VEVENT
UID:66383463-3765-4865-a436-343465306435
DTSTAMP:20260425T170144Z
DESCRIPTION:
DTSTART;VALUE=DATE:20250428
DTEND;VALUE=DATE:20250429
SUMMARY:Colloquium B
END:VEVENT
BEGIN:VEVENT
UID:34633965-6461-4736-b866-643936626165
DTSTAMP:20260425T170144Z
DESCRIPTION:
DTSTART:20250428T121500Z
DTEND:20250428T140000Z
LOCATION:E1 3: LH002
SUMMARY:Lecture C1
END:VEVENT
BEGIN:VEVENT
UID:30383266-3233-4237-b963-616230363630
DTSTAMP:20260425T170144Z
DESCRIPTION:
DTSTART;VALUE=DATE:20250429
DTEND;VALUE=DATE:20250430
SUMMARY:Colloquium B
END:VEVENT
BEGIN:VEVENT
UID:37613936-3432-4039-a139-393462313931
DTSTAMP:20260425T170144Z
DESCRIPTION:
DTSTART:20250429T081500Z
DTEND:20250429T100000Z
LOCATION:E1 3: LH002
SUMMARY:Lecture C2
END:VEVENT
BEGIN:VEVENT
UID:33653962-3936-4239-b536-343733373963
DTSTAMP:20260425T170144Z
DESCRIPTION:
DTSTART:20250430T061500Z
DTEND:20250430T080000Z
LOCATION:E1 3: SR 014\, SR 015\, SR 016
SUMMARY:Tutorial B
END:VEVENT
BEGIN:VEVENT
UID:65333633-3036-4237-b465-626366366131
DTSTAMP:20260425T170144Z
DESCRIPTION:
DTSTART:20250430T081500Z
DTEND:20250430T100000Z
LOCATION:E1 3: SR 014\, SR 015\, SR 016
SUMMARY:Tutorial B
END:VEVENT
BEGIN:VEVENT
UID:30373539-6235-4430-b934-613561663930
DTSTAMP:20260425T170144Z
DESCRIPTION:
DTSTART:20250502T120000Z
DTEND:20250502T140000Z
LOCATION:E1 3: SR 015
SUMMARY:Concurrency Café
END:VEVENT
BEGIN:VEVENT
UID:31326461-3130-4530-a338-343565656438
DTSTAMP:20260425T170144Z
DESCRIPTION:
DTSTART;VALUE=DATE:20250505
DTEND;VALUE=DATE:20250506
SUMMARY:Colloquium C
END:VEVENT
BEGIN:VEVENT
UID:63663730-3835-4664-a631-386362333262
DTSTAMP:20260425T170144Z
DESCRIPTION:
DTSTART:20250505T121500Z
DTEND:20250505T140000Z
LOCATION:E1 3: LH002
SUMMARY:Lecture D1
END:VEVENT
BEGIN:VEVENT
UID:33663461-6462-4538-a630-616364306236
DTSTAMP:20260425T170144Z
DESCRIPTION:
DTSTART;VALUE=DATE:20250506
DTEND;VALUE=DATE:20250507
SUMMARY:Colloquium C
END:VEVENT
BEGIN:VEVENT
UID:34613766-3634-4264-a330-366663626564
DTSTAMP:20260425T170144Z
DESCRIPTION:
DTSTART:20250506T081500Z
DTEND:20250506T100000Z
LOCATION:E1 3: LH002
SUMMARY:Lecture D2
END:VEVENT
BEGIN:VEVENT
UID:39333132-3333-4066-a438-646130613866
DTSTAMP:20260425T170144Z
DESCRIPTION:
DTSTART:20250507T061500Z
DTEND:20250507T080000Z
LOCATION:E1 3: SR 014\, SR 015\, SR 016
SUMMARY:Tutorial C
END:VEVENT
BEGIN:VEVENT
UID:62303431-3235-4364-b964-313566383061
DTSTAMP:20260425T170144Z
DESCRIPTION:
DTSTART:20250507T081500Z
DTEND:20250507T100000Z
LOCATION:E1 3: SR 014\, SR 015\, SR 016
SUMMARY:Tutorial C
END:VEVENT
BEGIN:VEVENT
UID:63386664-6565-4063-a238-353132616337
DTSTAMP:20260425T170144Z
DESCRIPTION:
DTSTART:20250508T120000Z
DTEND:20250508T140000Z
LOCATION:E1 3: SR 015
SUMMARY:Concurrency Café
END:VEVENT
BEGIN:VEVENT
UID:35333866-6534-4432-a534-613030303132
DTSTAMP:20260425T170144Z
DESCRIPTION:
DTSTART:20250509T120000Z
DTEND:20250509T140000Z
LOCATION:E1 3: SR 015
SUMMARY:Concurrency Café
END:VEVENT
BEGIN:VEVENT
UID:35343637-3665-4263-b630-336362656564
DTSTAMP:20260425T170144Z
DESCRIPTION:
DTSTART;VALUE=DATE:20250512
DTEND;VALUE=DATE:20250513
SUMMARY:Colloquium D
END:VEVENT
BEGIN:VEVENT
UID:39363661-6663-4234-b636-353365356531
DTSTAMP:20260425T170144Z
DESCRIPTION:
DTSTART:20250512T121500Z
DTEND:20250512T140000Z
LOCATION:E1 3: LH002
SUMMARY:Q & A Sesstion
END:VEVENT
BEGIN:VEVENT
UID:33373761-3735-4465-b839-633034613965
DTSTAMP:20260425T170144Z
DESCRIPTION:
DTSTART;VALUE=DATE:20250513
DTEND;VALUE=DATE:20250514
SUMMARY:Colloquium D
END:VEVENT
BEGIN:VEVENT
UID:65626135-3633-4661-b333-623066663262
DTSTAMP:20260425T170144Z
DESCRIPTION:
DTSTART:20250514T061500Z
DTEND:20250514T080000Z
LOCATION:E1 3: SR 014\, SR 015\, SR 016
SUMMARY:Tutorial D
END:VEVENT
BEGIN:VEVENT
UID:66326336-6262-4465-b866-636333373736
DTSTAMP:20260425T170144Z
DESCRIPTION:
DTSTART:20250514T081500Z
DTEND:20250514T100000Z
LOCATION:E1 3: SR 014\, SR 015\, SR 016
SUMMARY:Tutorial D
END:VEVENT
BEGIN:VEVENT
UID:31316665-6237-4162-b761-346130616265
DTSTAMP:20260425T170144Z
DESCRIPTION:
DTSTART:20250515T120000Z
DTEND:20250515T140000Z
LOCATION:E1 3: SR 015
SUMMARY:Concurrency Café
END:VEVENT
BEGIN:VEVENT
UID:32363534-3865-4432-a139-636433386130
DTSTAMP:20260425T170144Z
DESCRIPTION:
DTSTART:20250516T120000Z
DTEND:20250516T160000Z
LOCATION:E1 3: SR 015
SUMMARY:Concurrency Café XXL
END:VEVENT
BEGIN:VEVENT
UID:61623365-3666-4231-b738-666439373936
DTSTAMP:20260425T170144Z
DESCRIPTION:
DTSTART:20250520T080000Z
DTEND:20250520T100000Z
LOCATION:GHH and E1 3: HS 002
SUMMARY:Mid term
END:VEVENT
BEGIN:VEVENT
UID:38366132-3839-4562-b333-366638363166
DTSTAMP:20260425T170144Z
DESCRIPTION:
DTSTART:20250526T121500Z
DTEND:20250526T140000Z
LOCATION:E1 3: LH002
SUMMARY:Lecture E1
END:VEVENT
BEGIN:VEVENT
UID:31303964-6466-4361-a132-613762643461
DTSTAMP:20260425T170144Z
DESCRIPTION:
DTSTART:20250527T081500Z
DTEND:20250527T100000Z
LOCATION:E1 3: LH002
SUMMARY:Lecture E2
END:VEVENT
BEGIN:VEVENT
UID:65643535-3936-4465-b566-383930393335
DTSTAMP:20260425T170144Z
DESCRIPTION:
DTSTART:20250530T123000Z
DTEND:20250530T133000Z
LOCATION:E1 3: SR 015
SUMMARY:Midterm exam Inspection
END:VEVENT
BEGIN:VEVENT
UID:39363734-3738-4134-a262-623530333834
DTSTAMP:20260425T170144Z
DESCRIPTION:
DTSTART;VALUE=DATE:20250602
DTEND;VALUE=DATE:20250603
SUMMARY:Colloquium E
END:VEVENT
BEGIN:VEVENT
UID:63653062-6462-4663-b034-616661376661
DTSTAMP:20260425T170144Z
DESCRIPTION:
DTSTART:20250602T121500Z
DTEND:20250602T140000Z
LOCATION:E1 3: LH002
SUMMARY:Lecture F1
END:VEVENT
BEGIN:VEVENT
UID:30353039-3131-4834-b630-346234343361
DTSTAMP:20260425T170144Z
DESCRIPTION:
DTSTART;VALUE=DATE:20250603
DTEND;VALUE=DATE:20250604
SUMMARY:Colloquium E
END:VEVENT
BEGIN:VEVENT
UID:39333539-3966-4437-a262-333763383964
DTSTAMP:20260425T170144Z
DESCRIPTION:
DTSTART:20250603T081500Z
DTEND:20250603T100000Z
LOCATION:E1 3: LH002
SUMMARY:Lecture F2
END:VEVENT
BEGIN:VEVENT
UID:31633963-3334-4238-a136-386135646332
DTSTAMP:20260425T170144Z
DESCRIPTION:
DTSTART:20250604T061500Z
DTEND:20250604T080000Z
LOCATION:E1 3: SR 014\, SR 015\, SR 016
SUMMARY:Tutorial E
END:VEVENT
BEGIN:VEVENT
UID:39326430-6633-4231-b465-376564393034
DTSTAMP:20260425T170144Z
DESCRIPTION:
DTSTART:20250604T081500Z
DTEND:20250604T100000Z
LOCATION:E1 3: SR 014\, SR 015\, SR 016
SUMMARY:Tutorial E
END:VEVENT
BEGIN:VEVENT
UID:33663532-3638-4338-b436-613863623662
DTSTAMP:20260425T170144Z
DESCRIPTION:
DTSTART:20250605T120000Z
DTEND:20250605T140000Z
LOCATION:E1 3: SR 015
SUMMARY:Concurrency Café
END:VEVENT
BEGIN:VEVENT
UID:62333539-3039-4030-a530-363463373235
DTSTAMP:20260425T170144Z
DESCRIPTION:
DTSTART:20250606T120000Z
DTEND:20250606T140000Z
LOCATION:E1 3: SR 015
SUMMARY:Concurrency Café
END:VEVENT
BEGIN:VEVENT
UID:32356135-3536-4430-b430-643636363062
DTSTAMP:20260425T170144Z
DESCRIPTION:
DTSTART;VALUE=DATE:20250609
DTEND;VALUE=DATE:20250610
SUMMARY:Colloquium F
END:VEVENT
BEGIN:VEVENT
UID:37353637-3030-4738-b337-383233303066
DTSTAMP:20260425T170144Z
DESCRIPTION:
DTSTART;VALUE=DATE:20250610
DTEND;VALUE=DATE:20250611
SUMMARY:Colloquium F
END:VEVENT
BEGIN:VEVENT
UID:33633565-3230-4963-b333-333965626136
DTSTAMP:20260425T170144Z
DESCRIPTION:
DTSTART:20250611T061500Z
DTEND:20250611T080000Z
LOCATION:E1 3: SR 014\, SR 015\, SR 016
SUMMARY:Tutorial F
END:VEVENT
BEGIN:VEVENT
UID:64613636-6438-4838-b631-353262366130
DTSTAMP:20260425T170144Z
DESCRIPTION:
DTSTART:20250611T081500Z
DTEND:20250611T100000Z
LOCATION:E1 3: SR 014\, SR 015\, SR 016
SUMMARY:Tutorial F
END:VEVENT
BEGIN:VEVENT
UID:34366633-3433-4361-b338-383435663034
DTSTAMP:20260425T170144Z
DESCRIPTION:
DTSTART:20250612T120000Z
DTEND:20250612T140000Z
LOCATION:E1 3: SR 015
SUMMARY:Concurrency Café
END:VEVENT
BEGIN:VEVENT
UID:63626137-6464-4630-a362-633938316438
DTSTAMP:20260425T170144Z
DESCRIPTION:
DTSTART:20250613T120000Z
DTEND:20250613T140000Z
LOCATION:E1 3: SR 015
SUMMARY:Concurrency Café
END:VEVENT
BEGIN:VEVENT
UID:65643734-3338-4130-b238-623464386163
DTSTAMP:20260425T170144Z
DESCRIPTION:
DTSTART:20250616T121500Z
DTEND:20250616T140000Z
LOCATION:E1 3: LH002
SUMMARY:Lecture G1
END:VEVENT
BEGIN:VEVENT
UID:62313033-6139-4663-a435-633133663563
DTSTAMP:20260425T170144Z
DESCRIPTION:
DTSTART:20250617T081500Z
DTEND:20250617T100000Z
LOCATION:E1 3: LH002
SUMMARY:Lecture G2
END:VEVENT
BEGIN:VEVENT
UID:66353763-3163-4566-a238-326437313439
DTSTAMP:20260425T170144Z
DESCRIPTION:
DTSTART:20250620T120000Z
DTEND:20250620T140000Z
LOCATION:E1 3: SR 015
SUMMARY:Concurrency Café
END:VEVENT
BEGIN:VEVENT
UID:34343964-3837-4739-b438-316466613834
DTSTAMP:20260425T170144Z
DESCRIPTION:
DTSTART;VALUE=DATE:20250623
DTEND;VALUE=DATE:20250624
SUMMARY:Colloquium G
END:VEVENT
BEGIN:VEVENT
UID:61376464-3832-4438-b464-633865346330
DTSTAMP:20260425T170144Z
DESCRIPTION:
DTSTART:20250623T121500Z
DTEND:20250623T140000Z
LOCATION:E1 3: LH002
SUMMARY:Lecture H1
END:VEVENT
BEGIN:VEVENT
UID:35313236-6336-4439-a437-393461306135
DTSTAMP:20260425T170144Z
DESCRIPTION:
DTSTART;VALUE=DATE:20250624
DTEND;VALUE=DATE:20250625
SUMMARY:Colloquium G
END:VEVENT
BEGIN:VEVENT
UID:63373966-6364-4836-a333-323330623039
DTSTAMP:20260425T170144Z
DESCRIPTION:
DTSTART:20250624T081500Z
DTEND:20250624T100000Z
LOCATION:E1 3: LH002
SUMMARY:Lecture H2
END:VEVENT
BEGIN:VEVENT
UID:35366431-6464-4239-b761-363833613539
DTSTAMP:20260425T170144Z
DESCRIPTION:
DTSTART:20250625T061500Z
DTEND:20250625T080000Z
LOCATION:E1 3: SR 014\, SR 015\, SR 016
SUMMARY:Tutorial G
END:VEVENT
BEGIN:VEVENT
UID:37373439-6165-4238-b930-613636646165
DTSTAMP:20260425T170144Z
DESCRIPTION:
DTSTART:20250625T081500Z
DTEND:20250625T100000Z
LOCATION:E1 3: SR 014\, SR 015\, SR 016
SUMMARY:Tutorial G
END:VEVENT
BEGIN:VEVENT
UID:39396563-3834-4163-b832-613866666135
DTSTAMP:20260425T170144Z
DESCRIPTION:
DTSTART:20250626T120000Z
DTEND:20250626T140000Z
LOCATION:E1 3: SR 015
SUMMARY:Concurrency Café
END:VEVENT
BEGIN:VEVENT
UID:64323830-6235-4762-b730-646336363336
DTSTAMP:20260425T170144Z
DESCRIPTION:
DTSTART:20250627T120000Z
DTEND:20250627T140000Z
LOCATION:E1 3: SR 015
SUMMARY:Concurrency Café
END:VEVENT
BEGIN:VEVENT
UID:66643633-3764-4236-b131-303864666562
DTSTAMP:20260425T170144Z
DESCRIPTION:
DTSTART;VALUE=DATE:20250630
DTEND;VALUE=DATE:20250701
SUMMARY:Colloquium H
END:VEVENT
BEGIN:VEVENT
UID:33333565-6534-4665-b565-623438363032
DTSTAMP:20260425T170144Z
DESCRIPTION:
DTSTART:20250630T121500Z
DTEND:20250630T140000Z
LOCATION:E1 3: LH002
SUMMARY:Lecture H3 / Project Presentation
END:VEVENT
BEGIN:VEVENT
UID:30356430-6664-4338-b862-303464343838
DTSTAMP:20260425T170144Z
DESCRIPTION:
DTSTART;VALUE=DATE:20250701
DTEND;VALUE=DATE:20250702
SUMMARY:Colloquium H
END:VEVENT
BEGIN:VEVENT
UID:33383531-6134-4932-b032-663838353266
DTSTAMP:20260425T170144Z
DESCRIPTION:
DTSTART:20250702T061500Z
DTEND:20250702T080000Z
LOCATION:E1 3: SR 014\, SR 015\, SR 016
SUMMARY:Tutorial H
END:VEVENT
BEGIN:VEVENT
UID:38663131-3433-4336-b538-316130346262
DTSTAMP:20260425T170144Z
DESCRIPTION:
DTSTART:20250702T081500Z
DTEND:20250702T100000Z
LOCATION:E1 3: SR 014\, SR 015\, SR 016
SUMMARY:Tutorial H
END:VEVENT
BEGIN:VEVENT
UID:36656135-3234-4235-a162-326334363639
DTSTAMP:20260425T170144Z
DESCRIPTION:
DTSTART:20250703T120000Z
DTEND:20250703T140000Z
LOCATION:E1 3: SR 015
SUMMARY:Concurrency Café
END:VEVENT
BEGIN:VEVENT
UID:63386239-3934-4935-b133-363338393364
DTSTAMP:20260425T170144Z
DESCRIPTION:
DTSTART:20250704T120000Z
DTEND:20250704T140000Z
LOCATION:E1 3: SR 015
SUMMARY:Concurrency Café
END:VEVENT
BEGIN:VEVENT
UID:39643266-6465-4133-b735-653964306432
DTSTAMP:20260425T170144Z
DESCRIPTION:
DTSTART:20250707T215900Z
DTEND:20250707T215900Z
SUMMARY:Milestone Α
END:VEVENT
BEGIN:VEVENT
UID:62346366-3733-4033-b634-643262393930
DTSTAMP:20260425T170144Z
DESCRIPTION:
DTSTART:20250715T080000Z
DTEND:20250715T100000Z
LOCATION:GHH\, E1 3: LH002
SUMMARY:Midterm Re-Exam
END:VEVENT
BEGIN:VEVENT
UID:61363765-6537-4438-b839-386464323935
DTSTAMP:20260425T170144Z
DESCRIPTION:
DTSTART:20250728T215900Z
DTEND:20250728T215900Z
SUMMARY:Milestone Ω
END:VEVENT
BEGIN:VEVENT
UID:65643836-3334-4037-a461-356239653236
DTSTAMP:20260425T170144Z
DESCRIPTION:
DTSTART:20250731T120000Z
DTEND:20250731T160000Z
LOCATION:E1 3: SR 015
SUMMARY:Concurrency Café XXL
END:VEVENT
BEGIN:VEVENT
UID:37313462-6661-4739-b666-353836313839
DTSTAMP:20260425T170144Z
DESCRIPTION:
DTSTART:20250804T080000Z
DTEND:20250804T100000Z
LOCATION:GHH
SUMMARY:Final Exam
END:VEVENT
BEGIN:VEVENT
UID:35383031-3462-4234-b839-326431316564
DTSTAMP:20260425T170144Z
DESCRIPTION:
DTSTART;VALUE=DATE:20250806
DTEND;VALUE=DATE:20250807
LOCATION:E1 1\, Room 407
SUMMARY:Project Defence
END:VEVENT
BEGIN:VEVENT
UID:39636164-3365-4137-a339-323738613064
DTSTAMP:20260425T170144Z
DESCRIPTION:
DTSTART:20250929T080000Z
DTEND:20250929T100000Z
SUMMARY:Final Re-Exam
END:VEVENT
END:VCALENDAR
