BEGIN:VCALENDAR
VERSION:2.0
PRODID:-//127.0.1.1//NONSGML kigkonsult.se iCalcreator 2.41.92//
CALSCALE:GREGORIAN
METHOD:PUBLISH
UID:38636130-3365-4230-b030-356438633462
X-WR-CALNAME:Computer Ethics Calendar
X-WR-CALDESC:Events of the lecture Computer Ethics
X-WR-TIMEZONE:Europe/Berlin
BEGIN:VEVENT
UID:63616264-3765-4434-b062-646137313339
DTSTAMP:20260424T211610Z
DESCRIPTION:
DTSTART;VALUE=DATE:20220415
DTEND;VALUE=DATE:20220416
SUMMARY:Ce22: Public Holiday (Karfreitag)
END:VEVENT
BEGIN:VEVENT
UID:30613435-3336-4465-b134-313630356136
DTSTAMP:20260424T211610Z
DESCRIPTION:
DTSTART;VALUE=DATE:20220418
DTEND;VALUE=DATE:20220419
SUMMARY:Ce22: Public Holiday (Ostermontag)
END:VEVENT
BEGIN:VEVENT
UID:64313335-3730-4663-a335-316239373336
DTSTAMP:20260424T211610Z
DESCRIPTION:This office hour is usually in-person and held by Laura.
DTSTART:20220419T070000Z
DTEND:20220419T080000Z
LOCATION:room 528 in E1.3
SUMMARY:Ce22: Office Hour (in-person)
END:VEVENT
BEGIN:VEVENT
UID:33336362-6539-4231-a563-663838666361
DTSTAMP:20260424T211610Z
DESCRIPTION:This office hour is online in our MS Teams course and held by U
 rsela. (The Teams link will be in the materials section.)
DTSTART:20220421T150000Z
DTEND:20220421T160000Z
LOCATION:MS Teams
SUMMARY:Ce22: Office Hour (online)
END:VEVENT
BEGIN:VEVENT
UID:36656336-3962-4735-b235-653432656535
DTSTAMP:20260424T211610Z
DESCRIPTION:This office hour is online and held by Kevin or Sarah. (The cod
 e for the Teams team is in the Materials section.)
DTSTART:20220422T120000Z
DTEND:20220422T130000Z
LOCATION:MS Teams
SUMMARY:Ce22: Office Hour (online)
END:VEVENT
BEGIN:VEVENT
UID:35313034-3539-4632-a538-633032633136
DTSTAMP:20260424T211610Z
DESCRIPTION:Dieses Tutorium ist speziell für die LLM Studierenden und wird 
 in deutscher Sprache gehalten. Der Link zum Teams wird in den Kursmaterial
 ien zu finden sein.
DTSTART:20220422T160000Z
DTEND:20220422T170000Z
LOCATION:MS Teams
SUMMARY:Ce22: Tutorium deutsch (online)
END:VEVENT
BEGIN:VEVENT
UID:37633362-6539-4265-a131-656436613238
DTSTAMP:20260424T211610Z
DESCRIPTION:This office hour is usually in-person and held by Felix.
DTSTART:20220425T110000Z
DTEND:20220425T120000Z
LOCATION:room 528 in E1.3
SUMMARY:Ce22: Office Hour (in-person)
END:VEVENT
BEGIN:VEVENT
UID:37306130-6565-4235-b433-363337303562
DTSTAMP:20260424T211610Z
DESCRIPTION:This office hour is usually in-person and held by Laura.
DTSTART:20220426T070000Z
DTEND:20220426T080000Z
LOCATION:room 528 in E1.3
SUMMARY:Ce22: Office Hour (in-person)
END:VEVENT
BEGIN:VEVENT
UID:39366264-3735-4830-b365-626234303730
DTSTAMP:20260424T211610Z
DESCRIPTION:This office hour is online in our MS Teams course and held by U
 rsela. (The Teams link will be in the materials section.)
DTSTART:20220428T150000Z
DTEND:20220428T160000Z
LOCATION:MS Teams
SUMMARY:Ce22: Office Hour (online)
END:VEVENT
BEGIN:VEVENT
UID:37326466-6533-4435-b666-633564396662
DTSTAMP:20260424T211610Z
DESCRIPTION:This office hour is online and held by Kevin or Sarah. (The cod
 e for the Teams team is in the Materials section.)
DTSTART:20220429T120000Z
DTEND:20220429T130000Z
LOCATION:MS Teams
SUMMARY:Ce22: Office Hour (online)
END:VEVENT
BEGIN:VEVENT
UID:37336363-6261-4133-b031-393735363064
DTSTAMP:20260424T211610Z
DESCRIPTION:Dieses Tutorium ist speziell für die LLM Studierenden und wird 
 in deutscher Sprache gehalten. Der Link zum Teams wird in den Kursmaterial
 ien zu finden sein.
DTSTART:20220429T160000Z
DTEND:20220429T170000Z
LOCATION:MS Teams
SUMMARY:Ce22: Tutorium deutsch (online)
END:VEVENT
BEGIN:VEVENT
UID:63396537-6539-4035-a566-376166366437
DTSTAMP:20260424T211610Z
DESCRIPTION:This office hour is usually in-person and held by Felix.
DTSTART:20220502T110000Z
DTEND:20220502T120000Z
LOCATION:room 528 in E1.3
SUMMARY:Ce22: Office Hour (in-person)
END:VEVENT
BEGIN:VEVENT
UID:39303339-3534-4163-a538-643737636665
DTSTAMP:20260424T211610Z
DESCRIPTION:This office hour is usually in-person and held by Laura.
DTSTART:20220503T070000Z
DTEND:20220503T080000Z
LOCATION:room 528 in E1.3
SUMMARY:Ce22: Office Hour (in-person)
END:VEVENT
BEGIN:VEVENT
UID:65383361-6137-4137-a665-383362356635
DTSTAMP:20260424T211610Z
DESCRIPTION:This office hour is online in our MS Teams course and held by U
 rsela. (The Teams link will be in the materials section.)
DTSTART:20220505T150000Z
DTEND:20220505T160000Z
LOCATION:MS Teams
SUMMARY:Ce22: Office Hour (online)
END:VEVENT
BEGIN:VEVENT
UID:61643632-3763-4664-a462-623865323338
DTSTAMP:20260424T211610Z
DESCRIPTION:This office hour is online and held by Kevin or Sarah. (The cod
 e for the Teams team is in the Materials section.)
DTSTART:20220506T120000Z
DTEND:20220506T130000Z
LOCATION:MS Teams
SUMMARY:Ce22: Office Hour (online)
END:VEVENT
BEGIN:VEVENT
UID:38633437-3661-4230-b835-386164636338
DTSTAMP:20260424T211610Z
DESCRIPTION:Dieses Tutorium ist speziell für die LLM Studierenden und wird 
 in deutscher Sprache gehalten. Der Link zum Teams wird in den Kursmaterial
 ien zu finden sein.
DTSTART:20220506T160000Z
DTEND:20220506T170000Z
LOCATION:MS Teams
SUMMARY:Ce22: Tutorium deutsch (online)
END:VEVENT
BEGIN:VEVENT
UID:31326362-3130-4465-b931-323132373236
DTSTAMP:20260424T211610Z
DESCRIPTION:This office hour is usually in-person and held by Felix.
DTSTART:20220509T110000Z
DTEND:20220509T120000Z
LOCATION:room 528 in E1.3
SUMMARY:Ce22: Office Hour (in-person)
END:VEVENT
BEGIN:VEVENT
UID:62636330-3735-4430-a462-333637383962
DTSTAMP:20260424T211610Z
DESCRIPTION:This office hour is usually in-person and held by Laura.
DTSTART:20220510T070000Z
DTEND:20220510T080000Z
LOCATION:room 528 in E1.3
SUMMARY:Ce22: Office Hour (in-person)
END:VEVENT
BEGIN:VEVENT
UID:61666462-3564-4633-b631-613965383536
DTSTAMP:20260424T211610Z
DESCRIPTION:This office hour is online in our MS Teams course and held by U
 rsela. (The Teams link will be in the materials section.)
DTSTART:20220512T150000Z
DTEND:20220512T160000Z
LOCATION:MS Teams
SUMMARY:Ce22: Office Hour (online)
END:VEVENT
BEGIN:VEVENT
UID:62336430-3130-4461-a661-653339306332
DTSTAMP:20260424T211610Z
DESCRIPTION:This office hour is online and held by Kevin or Sarah. (The cod
 e for the Teams team is in the Materials section.)
DTSTART:20220513T120000Z
DTEND:20220513T130000Z
LOCATION:MS Teams
SUMMARY:Ce22: Office Hour (online)
END:VEVENT
BEGIN:VEVENT
UID:62326639-3938-4531-b361-303635396265
DTSTAMP:20260424T211610Z
DESCRIPTION:Dieses Tutorium ist speziell für die LLM Studierenden und wird 
 in deutscher Sprache gehalten. Der Link zum Teams wird in den Kursmaterial
 ien zu finden sein.
DTSTART:20220513T160000Z
DTEND:20220513T170000Z
LOCATION:MS Teams
SUMMARY:Ce22: Tutorium deutsch (online)
END:VEVENT
BEGIN:VEVENT
UID:37313830-6466-4232-b063-333536306236
DTSTAMP:20260424T211610Z
DESCRIPTION:This office hour is usually in-person and held by Felix.
DTSTART:20220516T110000Z
DTEND:20220516T120000Z
LOCATION:room 528 in E1.3
SUMMARY:Ce22: Office Hour (in-person)
END:VEVENT
BEGIN:VEVENT
UID:39393663-3134-4138-a331-373838653138
DTSTAMP:20260424T211610Z
DESCRIPTION:This office hour is usually in-person and held by Laura.
DTSTART:20220517T070000Z
DTEND:20220517T080000Z
LOCATION:room 528 in E1.3
SUMMARY:Ce22: Office Hour (in-person)
END:VEVENT
BEGIN:VEVENT
UID:37396661-3163-4161-b338-336338323131
DTSTAMP:20260424T211610Z
DESCRIPTION:This office hour is online in our MS Teams course and held by U
 rsela. (The Teams link will be in the materials section.)
DTSTART:20220519T150000Z
DTEND:20220519T160000Z
LOCATION:MS Teams
SUMMARY:Ce22: Office Hour (online)
END:VEVENT
BEGIN:VEVENT
UID:64376164-6131-4532-b538-383937306365
DTSTAMP:20260424T211610Z
DESCRIPTION:This office hour is online and held by Kevin or Sarah. (The cod
 e for the Teams team is in the Materials section.)
DTSTART:20220520T120000Z
DTEND:20220520T130000Z
LOCATION:MS Teams
SUMMARY:Ce22: Office Hour (online)
END:VEVENT
BEGIN:VEVENT
UID:30333033-3966-4631-a463-643339626664
DTSTAMP:20260424T211610Z
DESCRIPTION:Dieses Tutorium ist speziell für die LLM Studierenden und wird 
 in deutscher Sprache gehalten. Der Link zum Teams wird in den Kursmaterial
 ien zu finden sein.
DTSTART:20220520T160000Z
DTEND:20220520T170000Z
LOCATION:MS Teams
SUMMARY:Ce22: Tutorium deutsch (online)
END:VEVENT
BEGIN:VEVENT
UID:39373831-6233-4534-b163-303030656435
DTSTAMP:20260424T211610Z
DESCRIPTION:This office hour is usually in-person and held by Felix.
DTSTART:20220523T110000Z
DTEND:20220523T120000Z
LOCATION:room 528 in E1.3
SUMMARY:Ce22: Office Hour (in-person)
END:VEVENT
BEGIN:VEVENT
UID:61643362-3236-4234-b838-613838636230
DTSTAMP:20260424T211610Z
DESCRIPTION:This office hour is usually in-person and held by Laura.
DTSTART:20220524T070000Z
DTEND:20220524T080000Z
LOCATION:room 528 in E1.3
SUMMARY:Ce22: Office Hour (in-person)
END:VEVENT
BEGIN:VEVENT
UID:33333636-3664-4636-a563-653761653237
DTSTAMP:20260424T211610Z
DESCRIPTION:
DTSTART;VALUE=DATE:20220526
DTEND;VALUE=DATE:20220527
SUMMARY:Ce22: Public Holiday (Christi Himmelfahrt)
END:VEVENT
BEGIN:VEVENT
UID:66306161-6262-4339-b339-343332326162
DTSTAMP:20260424T211610Z
DESCRIPTION:This office hour is online and held by Kevin or Sarah. (The cod
 e for the Teams team is in the Materials section.)
DTSTART:20220527T120000Z
DTEND:20220527T130000Z
LOCATION:MS Teams
SUMMARY:Ce22: Office Hour (online)
END:VEVENT
BEGIN:VEVENT
UID:65333361-6437-4136-b564-633262386537
DTSTAMP:20260424T211610Z
DESCRIPTION:An diesem Tag fällt das Tutorium aus. Bei dringenden Fragen ist
  Ursela per Mail zu erreichen\, und es gibt die Möglichkeit an den anderen
  Office Hours des Kurses Ethics for Nerds teilzunehmen.
DTSTART:20220527T160000Z
DTEND:20220527T170000Z
LOCATION:MS Teams
SUMMARY:Ce22: Tutorium deutsch (online)
END:VEVENT
BEGIN:VEVENT
UID:31613130-3336-4362-a337-336330646165
DTSTAMP:20260424T211610Z
DESCRIPTION:This office hour is usually in-person and held by Felix.
DTSTART:20220530T110000Z
DTEND:20220530T120000Z
LOCATION:room 528 in E1.3
SUMMARY:Ce22: Office Hour (in-person)
END:VEVENT
BEGIN:VEVENT
UID:34636133-3632-4332-a333-323332356434
DTSTAMP:20260424T211610Z
DESCRIPTION:This office hour is usually in-person and held by Laura.
DTSTART:20220531T070000Z
DTEND:20220531T080000Z
LOCATION:room 528 in E1.3
SUMMARY:Ce22: Office Hour (in-person)
END:VEVENT
BEGIN:VEVENT
UID:38376465-6331-4339-b662-663465373230
DTSTAMP:20260424T211610Z
DESCRIPTION:This office hour is online in our MS Teams course and held by U
 rsela. (The Teams link will be in the materials section.)
DTSTART:20220602T150000Z
DTEND:20220602T160000Z
LOCATION:MS Teams
SUMMARY:Ce22: Office Hour (online)
END:VEVENT
BEGIN:VEVENT
UID:65616332-6535-4430-b739-346465373366
DTSTAMP:20260424T211610Z
DESCRIPTION:This office hour is online and held by Kevin or Sarah. (The cod
 e for the Teams team is in the Materials section.)
DTSTART:20220603T120000Z
DTEND:20220603T130000Z
LOCATION:MS Teams
SUMMARY:Ce22: Office Hour (online)
END:VEVENT
BEGIN:VEVENT
UID:61626334-6131-4265-b437-366633323763
DTSTAMP:20260424T211610Z
DESCRIPTION:Dieses Tutorium ist speziell für die LLM Studierenden und wird 
 in deutscher Sprache gehalten. Der Link zum Teams wird in den Kursmaterial
 ien zu finden sein.
DTSTART:20220603T160000Z
DTEND:20220603T170000Z
LOCATION:MS Teams
SUMMARY:Ce22: Tutorium deutsch (online)
END:VEVENT
BEGIN:VEVENT
UID:39616635-6139-4038-a134-306465386161
DTSTAMP:20260424T211610Z
DESCRIPTION:
DTSTART;VALUE=DATE:20220606
DTEND;VALUE=DATE:20220607
SUMMARY:Ce22: Public Holiday (Pfingstmontag)
END:VEVENT
BEGIN:VEVENT
UID:63363236-6630-4439-b166-346534626231
DTSTAMP:20260424T211610Z
DESCRIPTION:This office hour is usually in-person and held by Laura.
DTSTART:20220607T070000Z
DTEND:20220607T080000Z
LOCATION:room 528 in E1.3
SUMMARY:Ce22: Office Hour (in-person)
END:VEVENT
BEGIN:VEVENT
UID:36306537-6134-4339-b130-666633346362
DTSTAMP:20260424T211610Z
DESCRIPTION:This office hour is online in our MS Teams course and held by U
 rsela. (The Teams link will be in the materials section.)
DTSTART:20220609T150000Z
DTEND:20220609T160000Z
LOCATION:MS Teams
SUMMARY:Ce22: Office Hour (online)
END:VEVENT
BEGIN:VEVENT
UID:65613462-3637-4462-b339-346264393964
DTSTAMP:20260424T211610Z
DESCRIPTION:This office hour is online and held by Kevin or Sarah. (The cod
 e for the Teams team is in the Materials section.)
DTSTART:20220610T120000Z
DTEND:20220610T130000Z
LOCATION:MS Teams
SUMMARY:Ce22: Office Hour (online)
END:VEVENT
BEGIN:VEVENT
UID:33383239-6461-4235-b831-646538623338
DTSTAMP:20260424T211610Z
DESCRIPTION:Dieses Tutorium ist speziell für die LLM Studierenden und wird 
 in deutscher Sprache gehalten. Der Link zum Teams wird in den Kursmaterial
 ien zu finden sein.
DTSTART:20220610T160000Z
DTEND:20220610T170000Z
LOCATION:MS Teams
SUMMARY:Ce22: Tutorium deutsch (online)
END:VEVENT
BEGIN:VEVENT
UID:32333931-3865-4561-a435-633633366234
DTSTAMP:20260424T211610Z
DESCRIPTION:This office hour is usually in-person and held by Felix.
DTSTART:20220613T110000Z
DTEND:20220613T120000Z
LOCATION:room 528 in E1.3
SUMMARY:Ce22: Office Hour (in-person)
END:VEVENT
BEGIN:VEVENT
UID:61336532-3532-4039-a537-383731303763
DTSTAMP:20260424T211610Z
DESCRIPTION:This office hour is usually in-person and held by Laura.
DTSTART:20220614T070000Z
DTEND:20220614T080000Z
LOCATION:room 528 in E1.3
SUMMARY:Ce22: Office Hour (in-person)
END:VEVENT
BEGIN:VEVENT
UID:38366261-3337-4032-b030-646230643166
DTSTAMP:20260424T211610Z
DESCRIPTION:
DTSTART;VALUE=DATE:20220616
DTEND;VALUE=DATE:20220617
SUMMARY:Ce22: Public Holiday (Fronleichnam)
END:VEVENT
BEGIN:VEVENT
UID:38376239-6164-4562-b765-626239343339
DTSTAMP:20260424T211610Z
DESCRIPTION:This office hour is online and held by Kevin or Sarah. (The cod
 e for the Teams team is in the Materials section.)
DTSTART:20220617T120000Z
DTEND:20220617T130000Z
LOCATION:MS Teams
SUMMARY:Ce22: Office Hour (online)
END:VEVENT
BEGIN:VEVENT
UID:61653264-6139-4266-b430-366333323131
DTSTAMP:20260424T211610Z
DESCRIPTION:Da dies ein Brückentag ist\, findet das Tutorium nur statt\, we
 nn Bedarf besteht. Solltet ihr an diesem Tag das Tutorium besuchen wollen\
 , meldet euch bitte bis zum 15.6. per Email bei Ursela.
DTSTART:20220617T160000Z
DTEND:20220617T170000Z
LOCATION:MS Teams
SUMMARY:Ce22: Tutorium deutsch (online)
END:VEVENT
BEGIN:VEVENT
UID:66626466-3939-4430-b837-663238306635
DTSTAMP:20260424T211610Z
DESCRIPTION:This office hour is usually in-person and held by Felix.
DTSTART:20220620T110000Z
DTEND:20220620T120000Z
LOCATION:room 528 in E1.3
SUMMARY:Ce22: Office Hour (in-person)
END:VEVENT
BEGIN:VEVENT
UID:34346565-3736-4165-b664-313766616662
DTSTAMP:20260424T211610Z
DESCRIPTION:This office hour is usually in-person and held by Laura.
DTSTART:20220621T070000Z
DTEND:20220621T080000Z
LOCATION:room 528 in E1.3
SUMMARY:Ce22: Office Hour (in-person)
END:VEVENT
BEGIN:VEVENT
UID:31373839-3935-4065-b535-396133333363
DTSTAMP:20260424T211610Z
DESCRIPTION:This office hour is online in our MS Teams course and held by U
 rsela. (The Teams link will be in the materials section.)
DTSTART:20220623T150000Z
DTEND:20220623T160000Z
LOCATION:MS Teams
SUMMARY:Ce22: Office Hour (online)
END:VEVENT
BEGIN:VEVENT
UID:65336164-6537-4839-b064-323461636534
DTSTAMP:20260424T211610Z
DESCRIPTION:This office hour is online and held by Kevin or Sarah. (The cod
 e for the Teams team is in the Materials section.)
DTSTART:20220624T120000Z
DTEND:20220624T130000Z
LOCATION:MS Teams
SUMMARY:Ce22: Office Hour (online)
END:VEVENT
BEGIN:VEVENT
UID:65623466-3833-4563-a534-633735316633
DTSTAMP:20260424T211610Z
DESCRIPTION:Dieses Tutorium ist speziell für die LLM Studierenden und wird 
 in deutscher Sprache gehalten. Der Link zum Teams wird in den Kursmaterial
 ien zu finden sein.
DTSTART:20220624T160000Z
DTEND:20220624T170000Z
LOCATION:MS Teams
SUMMARY:Ce22: Tutorium deutsch (online)
END:VEVENT
BEGIN:VEVENT
UID:30636230-3730-4563-a337-643433373434
DTSTAMP:20260424T211610Z
DESCRIPTION:This office hour is usually in-person and held by Felix.
DTSTART:20220627T110000Z
DTEND:20220627T120000Z
LOCATION:room 528 in E1.3
SUMMARY:Ce22: Office Hour (in-person)
END:VEVENT
BEGIN:VEVENT
UID:30663335-6338-4436-b036-616166616362
DTSTAMP:20260424T211610Z
DESCRIPTION:This office hour is usually in-person and held by Laura.
DTSTART:20220628T070000Z
DTEND:20220628T080000Z
LOCATION:room 528 in E1.3
SUMMARY:Ce22: Office Hour (in-person)
END:VEVENT
BEGIN:VEVENT
UID:39636430-3163-4664-b234-343338626632
DTSTAMP:20260424T211610Z
DESCRIPTION:This office hour is online in our MS Teams course and held by U
 rsela. (The Teams link will be in the materials section.)
DTSTART:20220630T150000Z
DTEND:20220630T160000Z
LOCATION:MS Teams
SUMMARY:Ce22: Office Hour (online)
END:VEVENT
BEGIN:VEVENT
UID:33663733-6137-4132-b263-623733633264
DTSTAMP:20260424T211610Z
DESCRIPTION:This office hour is online and held by Kevin or Sarah. (The cod
 e for the Teams team is in the Materials section.)
DTSTART:20220701T120000Z
DTEND:20220701T130000Z
LOCATION:MS Teams
SUMMARY:Ce22: Office Hour (online)
END:VEVENT
BEGIN:VEVENT
UID:66613035-3033-4661-b362-373266353638
DTSTAMP:20260424T211610Z
DESCRIPTION:Dieses Tutorium ist speziell für die LLM Studierenden und wird 
 in deutscher Sprache gehalten. Der Link zum Teams wird in den Kursmaterial
 ien zu finden sein.
DTSTART:20220701T160000Z
DTEND:20220701T170000Z
LOCATION:MS Teams
SUMMARY:Ce22: Tutorium deutsch (online)
END:VEVENT
BEGIN:VEVENT
UID:63333061-3532-4135-a533-376537636465
DTSTAMP:20260424T211610Z
DESCRIPTION:This office hour is usually in-person and held by Felix.
DTSTART:20220704T110000Z
DTEND:20220704T120000Z
LOCATION:room 528 in E1.3
SUMMARY:Ce22: Office Hour (in-person)
END:VEVENT
BEGIN:VEVENT
UID:62643535-6539-4264-b531-643761363236
DTSTAMP:20260424T211610Z
DESCRIPTION:This office hour is usually in-person and held by Laura.
DTSTART:20220705T070000Z
DTEND:20220705T080000Z
LOCATION:room 528 in E1.3
SUMMARY:Ce22: Office Hour (in-person)
END:VEVENT
BEGIN:VEVENT
UID:64303561-6466-4934-b034-366463386161
DTSTAMP:20260424T211610Z
DESCRIPTION:This office hour is online in our MS Teams course and held by U
 rsela. (The Teams link will be in the materials section.)
DTSTART:20220707T150000Z
DTEND:20220707T160000Z
LOCATION:MS Teams
SUMMARY:Ce22: Office Hour (online)
END:VEVENT
BEGIN:VEVENT
UID:31383066-3137-4438-a161-633865303737
DTSTAMP:20260424T211610Z
DESCRIPTION:This office hour is online and held by Kevin or Sarah. (The cod
 e for the Teams team is in the Materials section.)
DTSTART:20220708T120000Z
DTEND:20220708T130000Z
LOCATION:MS Teams
SUMMARY:Ce22: Office Hour (online)
END:VEVENT
BEGIN:VEVENT
UID:65666635-3766-4237-b135-393338616537
DTSTAMP:20260424T211610Z
DESCRIPTION:Dieses Tutorium ist speziell für die LLM Studierenden und wird 
 in deutscher Sprache gehalten. Der Link zum Teams wird in den Kursmaterial
 ien zu finden sein.
DTSTART:20220708T160000Z
DTEND:20220708T170000Z
LOCATION:MS Teams
SUMMARY:Ce22: Tutorium deutsch (online)
END:VEVENT
BEGIN:VEVENT
UID:32316231-3630-4539-b036-623933303138
DTSTAMP:20260424T211610Z
DESCRIPTION:This office hour is usually in-person and held by Felix.
DTSTART:20220711T110000Z
DTEND:20220711T120000Z
LOCATION:room 528 in E1.3
SUMMARY:Ce22: Office Hour (in-person)
END:VEVENT
BEGIN:VEVENT
UID:39343730-3431-4165-b636-613065386132
DTSTAMP:20260424T211610Z
DESCRIPTION:This office hour is usually in-person and held by Laura.
DTSTART:20220712T070000Z
DTEND:20220712T080000Z
LOCATION:room 528 in E1.3
SUMMARY:Ce22: Office Hour (in-person)
END:VEVENT
BEGIN:VEVENT
UID:64623261-6365-4432-b532-356235396635
DTSTAMP:20260424T211610Z
DESCRIPTION:This office hour is online in our MS Teams course and held by U
 rsela. (The Teams link will be in the materials section.)
DTSTART:20220714T150000Z
DTEND:20220714T160000Z
LOCATION:MS Teams
SUMMARY:Ce22: Office Hour (online)
END:VEVENT
BEGIN:VEVENT
UID:31333031-3137-4231-b437-626130363031
DTSTAMP:20260424T211610Z
DESCRIPTION:This office hour is online and held by Kevin or Sarah. (The cod
 e for the Teams team is in the Materials section.)
DTSTART:20220715T120000Z
DTEND:20220715T130000Z
LOCATION:MS Teams
SUMMARY:Ce22: Office Hour (online)
END:VEVENT
BEGIN:VEVENT
UID:39376661-6238-4636-b039-306563626536
DTSTAMP:20260424T211610Z
DESCRIPTION:Dieses Tutorium ist speziell für die LLM Studierenden und wird 
 in deutscher Sprache gehalten. Der Link zum Teams wird in den Kursmaterial
 ien zu finden sein.
DTSTART:20220715T160000Z
DTEND:20220715T170000Z
LOCATION:MS Teams
SUMMARY:Ce22: Tutorium deutsch (online)
END:VEVENT
BEGIN:VEVENT
UID:64623166-6566-4334-b162-656265356636
DTSTAMP:20260424T211610Z
DESCRIPTION:This office hour is usually in-person and held by Felix.
DTSTART:20220718T110000Z
DTEND:20220718T120000Z
LOCATION:room 528 in E1.3
SUMMARY:Ce22: Office Hour (in-person)
END:VEVENT
BEGIN:VEVENT
UID:64663234-3262-4838-b639-336138363233
DTSTAMP:20260424T211610Z
DESCRIPTION:This office hour is usually in-person and held by Laura.
DTSTART:20220719T070000Z
DTEND:20220719T080000Z
LOCATION:room 528 in E1.3
SUMMARY:Ce22: Office Hour (in-person)
END:VEVENT
BEGIN:VEVENT
UID:32383461-3761-4937-b638-316364376236
DTSTAMP:20260424T211610Z
DESCRIPTION:This office hour is online in our MS Teams course and held by U
 rsela. (The Teams link will be in the materials section.)
DTSTART:20220721T150000Z
DTEND:20220721T160000Z
LOCATION:MS Teams
SUMMARY:Ce22: Office Hour (online)
END:VEVENT
BEGIN:VEVENT
UID:64653566-3136-4238-b830-333130373435
DTSTAMP:20260424T211610Z
DESCRIPTION:This office hour is online and held by Kevin or Sarah. (The cod
 e for the Teams team is in the Materials section.)
DTSTART:20220722T120000Z
DTEND:20220722T130000Z
LOCATION:MS Teams
SUMMARY:Ce22: Office Hour (online)
END:VEVENT
BEGIN:VEVENT
UID:33336132-3432-4462-b463-623562616166
DTSTAMP:20260424T211610Z
DESCRIPTION:Dieses Tutorium ist speziell für die LLM Studierenden und wird 
 in deutscher Sprache gehalten. Der Link zum Teams wird in den Kursmaterial
 ien zu finden sein.
DTSTART:20220722T160000Z
DTEND:20220722T170000Z
LOCATION:MS Teams
SUMMARY:Ce22: Tutorium deutsch (online)
END:VEVENT
END:VCALENDAR
