BEGIN:VCALENDAR
VERSION:2.0
PRODID:-//127.0.1.1//NONSGML kigkonsult.se iCalcreator 2.41.92//
CALSCALE:GREGORIAN
METHOD:PUBLISH
UID:62316130-6562-4934-b233-383439633538
X-WR-CALNAME:Computer Ethics Calendar
X-WR-CALDESC:Events of the lecture Computer Ethics
X-WR-TIMEZONE:Europe/Berlin
BEGIN:VEVENT
UID:39383263-6637-4539-a434-336664616431
DTSTAMP:20260424T171123Z
DESCRIPTION:This office hour is usually in-person and held by Laura.
DTSTART:20220419T070000Z
DTEND:20220419T080000Z
LOCATION:room 528 in E1.3
SUMMARY:Office Hour (in-person)
END:VEVENT
BEGIN:VEVENT
UID:38383863-3164-4536-a431-323364616437
DTSTAMP:20260424T171123Z
DESCRIPTION:This office hour is online in our MS Teams course and held by U
 rsela. (The Teams link will be in the materials section.)
DTSTART:20220421T150000Z
DTEND:20220421T160000Z
LOCATION:MS Teams
SUMMARY:Office Hour (online)
END:VEVENT
BEGIN:VEVENT
UID:63356131-3564-4161-a539-323963313039
DTSTAMP:20260424T171123Z
DESCRIPTION:This office hour is online and held by Kevin or Sarah. (The cod
 e for the Teams team is in the Materials section.)
DTSTART:20220422T120000Z
DTEND:20220422T130000Z
LOCATION:MS Teams
SUMMARY:Office Hour (online)
END:VEVENT
BEGIN:VEVENT
UID:34366633-3439-4661-b638-653839626531
DTSTAMP:20260424T171123Z
DESCRIPTION:This office hour is usually in-person and held by Felix.
DTSTART:20220425T110000Z
DTEND:20220425T120000Z
LOCATION:room 528 in E1.3
SUMMARY:Office Hour (in-person)
END:VEVENT
BEGIN:VEVENT
UID:64666162-6562-4137-b736-653734306564
DTSTAMP:20260424T171123Z
DESCRIPTION:This office hour is usually in-person and held by Laura.
DTSTART:20220426T070000Z
DTEND:20220426T080000Z
LOCATION:room 528 in E1.3
SUMMARY:Office Hour (in-person)
END:VEVENT
BEGIN:VEVENT
UID:38386165-3636-4032-a331-333738613461
DTSTAMP:20260424T171123Z
DESCRIPTION:This office hour is online in our MS Teams course and held by U
 rsela. (The Teams link will be in the materials section.)
DTSTART:20220428T150000Z
DTEND:20220428T160000Z
LOCATION:MS Teams
SUMMARY:Office Hour (online)
END:VEVENT
BEGIN:VEVENT
UID:62363965-3434-4663-b936-323331373532
DTSTAMP:20260424T171123Z
DESCRIPTION:This office hour is online and held by Kevin or Sarah. (The cod
 e for the Teams team is in the Materials section.)
DTSTART:20220429T120000Z
DTEND:20220429T130000Z
LOCATION:MS Teams
SUMMARY:Office Hour (online)
END:VEVENT
BEGIN:VEVENT
UID:31336433-6365-4164-a361-393138626462
DTSTAMP:20260424T171123Z
DESCRIPTION:This office hour is usually in-person and held by Felix.
DTSTART:20220502T110000Z
DTEND:20220502T120000Z
LOCATION:room 528 in E1.3
SUMMARY:Office Hour (in-person)
END:VEVENT
BEGIN:VEVENT
UID:62616565-6461-4163-b163-373465643338
DTSTAMP:20260424T171123Z
DESCRIPTION:This office hour is usually in-person and held by Laura.
DTSTART:20220503T070000Z
DTEND:20220503T080000Z
LOCATION:room 528 in E1.3
SUMMARY:Office Hour (in-person)
END:VEVENT
BEGIN:VEVENT
UID:39346665-3338-4666-a530-366465356461
DTSTAMP:20260424T171123Z
DESCRIPTION:This office hour is online in our MS Teams course and held by U
 rsela. (The Teams link will be in the materials section.)
DTSTART:20220505T150000Z
DTEND:20220505T160000Z
LOCATION:MS Teams
SUMMARY:Office Hour (online)
END:VEVENT
BEGIN:VEVENT
UID:66393638-3033-4230-b831-313238663763
DTSTAMP:20260424T171123Z
DESCRIPTION:This office hour is online and held by Kevin or Sarah. (The cod
 e for the Teams team is in the Materials section.)
DTSTART:20220506T120000Z
DTEND:20220506T130000Z
LOCATION:MS Teams
SUMMARY:Office Hour (online)
END:VEVENT
BEGIN:VEVENT
UID:32613437-3834-4462-a539-323463643262
DTSTAMP:20260424T171123Z
DESCRIPTION:This office hour is usually in-person and held by Felix.
DTSTART:20220509T110000Z
DTEND:20220509T120000Z
LOCATION:room 528 in E1.3
SUMMARY:Office Hour (in-person)
END:VEVENT
BEGIN:VEVENT
UID:30313636-3064-4965-b766-393939636534
DTSTAMP:20260424T171123Z
DESCRIPTION:This office hour is usually in-person and held by Laura.
DTSTART:20220510T070000Z
DTEND:20220510T080000Z
LOCATION:room 528 in E1.3
SUMMARY:Office Hour (in-person)
END:VEVENT
BEGIN:VEVENT
UID:38363930-3162-4631-a433-636139393036
DTSTAMP:20260424T171123Z
DESCRIPTION:This office hour is online in our MS Teams course and held by U
 rsela. (The Teams link will be in the materials section.)
DTSTART:20220512T150000Z
DTEND:20220512T160000Z
LOCATION:MS Teams
SUMMARY:Office Hour (online)
END:VEVENT
BEGIN:VEVENT
UID:33313633-6266-4433-b363-623863373230
DTSTAMP:20260424T171123Z
DESCRIPTION:This office hour is online and held by Kevin or Sarah. (The cod
 e for the Teams team is in the Materials section.)
DTSTART:20220513T120000Z
DTEND:20220513T130000Z
LOCATION:MS Teams
SUMMARY:Office Hour (online)
END:VEVENT
BEGIN:VEVENT
UID:66616337-6239-4633-a664-326161616131
DTSTAMP:20260424T171123Z
DESCRIPTION:This office hour is usually in-person and held by Felix.
DTSTART:20220516T110000Z
DTEND:20220516T120000Z
LOCATION:room 528 in E1.3
SUMMARY:Office Hour (in-person)
END:VEVENT
BEGIN:VEVENT
UID:31663462-3564-4566-b463-323532383765
DTSTAMP:20260424T171123Z
DESCRIPTION:This office hour is usually in-person and held by Laura.
DTSTART:20220517T070000Z
DTEND:20220517T080000Z
LOCATION:room 528 in E1.3
SUMMARY:Office Hour (in-person)
END:VEVENT
BEGIN:VEVENT
UID:61336133-6632-4639-b932-333333373738
DTSTAMP:20260424T171123Z
DESCRIPTION:This office hour is online in our MS Teams course and held by U
 rsela. (The Teams link will be in the materials section.)
DTSTART:20220519T150000Z
DTEND:20220519T160000Z
LOCATION:MS Teams
SUMMARY:Office Hour (online)
END:VEVENT
BEGIN:VEVENT
UID:61633531-6462-4639-b732-333538336534
DTSTAMP:20260424T171123Z
DESCRIPTION:This office hour is online and held by Kevin or Sarah. (The cod
 e for the Teams team is in the Materials section.)
DTSTART:20220520T120000Z
DTEND:20220520T130000Z
LOCATION:MS Teams
SUMMARY:Office Hour (online)
END:VEVENT
BEGIN:VEVENT
UID:37626237-6164-4664-a631-623438323461
DTSTAMP:20260424T171123Z
DESCRIPTION:This office hour is usually in-person and held by Felix.
DTSTART:20220523T110000Z
DTEND:20220523T120000Z
LOCATION:room 528 in E1.3
SUMMARY:Office Hour (in-person)
END:VEVENT
BEGIN:VEVENT
UID:31366466-3265-4139-a637-653033646365
DTSTAMP:20260424T171123Z
DESCRIPTION:This office hour is usually in-person and held by Laura.
DTSTART:20220524T070000Z
DTEND:20220524T080000Z
LOCATION:room 528 in E1.3
SUMMARY:Office Hour (in-person)
END:VEVENT
BEGIN:VEVENT
UID:37636561-6161-4531-a439-306339666339
DTSTAMP:20260424T171123Z
DESCRIPTION:This office hour is online and held by Kevin or Sarah. (The cod
 e for the Teams team is in the Materials section.)
DTSTART:20220527T120000Z
DTEND:20220527T130000Z
LOCATION:MS Teams
SUMMARY:Office Hour (online)
END:VEVENT
BEGIN:VEVENT
UID:30333266-6565-4363-a161-353164356539
DTSTAMP:20260424T171123Z
DESCRIPTION:This office hour is usually in-person and held by Felix.
DTSTART:20220530T110000Z
DTEND:20220530T120000Z
LOCATION:room 528 in E1.3
SUMMARY:Office Hour (in-person)
END:VEVENT
BEGIN:VEVENT
UID:66333539-3762-4063-a539-333631353938
DTSTAMP:20260424T171123Z
DESCRIPTION:This office hour is usually in-person and held by Laura.
DTSTART:20220531T070000Z
DTEND:20220531T080000Z
LOCATION:room 528 in E1.3
SUMMARY:Office Hour (in-person)
END:VEVENT
BEGIN:VEVENT
UID:30366666-3839-4137-b666-363436643931
DTSTAMP:20260424T171123Z
DESCRIPTION:This office hour is online in our MS Teams course and held by U
 rsela. (The Teams link will be in the materials section.)
DTSTART:20220602T150000Z
DTEND:20220602T160000Z
LOCATION:MS Teams
SUMMARY:Office Hour (online)
END:VEVENT
BEGIN:VEVENT
UID:63613338-6639-4764-b630-663233653961
DTSTAMP:20260424T171123Z
DESCRIPTION:This office hour is online and held by Kevin or Sarah. (The cod
 e for the Teams team is in the Materials section.)
DTSTART:20220603T120000Z
DTEND:20220603T130000Z
LOCATION:MS Teams
SUMMARY:Office Hour (online)
END:VEVENT
BEGIN:VEVENT
UID:62393861-3634-4438-a236-373735633666
DTSTAMP:20260424T171123Z
DESCRIPTION:This office hour is usually in-person and held by Laura.
DTSTART:20220607T070000Z
DTEND:20220607T080000Z
LOCATION:room 528 in E1.3
SUMMARY:Office Hour (in-person)
END:VEVENT
BEGIN:VEVENT
UID:64336136-6234-4338-a364-626434383062
DTSTAMP:20260424T171123Z
DESCRIPTION:This office hour is online in our MS Teams course and held by U
 rsela. (The Teams link will be in the materials section.)
DTSTART:20220609T150000Z
DTEND:20220609T160000Z
LOCATION:MS Teams
SUMMARY:Office Hour (online)
END:VEVENT
BEGIN:VEVENT
UID:66653734-6166-4361-b965-666637323735
DTSTAMP:20260424T171123Z
DESCRIPTION:This office hour is online and held by Kevin or Sarah. (The cod
 e for the Teams team is in the Materials section.)
DTSTART:20220610T120000Z
DTEND:20220610T130000Z
LOCATION:MS Teams
SUMMARY:Office Hour (online)
END:VEVENT
BEGIN:VEVENT
UID:61373862-3063-4231-a662-346661313236
DTSTAMP:20260424T171123Z
DESCRIPTION:This office hour is usually in-person and held by Felix.
DTSTART:20220613T110000Z
DTEND:20220613T120000Z
LOCATION:room 528 in E1.3
SUMMARY:Office Hour (in-person)
END:VEVENT
BEGIN:VEVENT
UID:33363233-3161-4037-a163-393837303066
DTSTAMP:20260424T171123Z
DESCRIPTION:This office hour is usually in-person and held by Laura.
DTSTART:20220614T070000Z
DTEND:20220614T080000Z
LOCATION:room 528 in E1.3
SUMMARY:Office Hour (in-person)
END:VEVENT
BEGIN:VEVENT
UID:38396163-3661-4935-b230-313639356633
DTSTAMP:20260424T171123Z
DESCRIPTION:This office hour is online and held by Kevin or Sarah. (The cod
 e for the Teams team is in the Materials section.)
DTSTART:20220617T120000Z
DTEND:20220617T130000Z
LOCATION:MS Teams
SUMMARY:Office Hour (online)
END:VEVENT
BEGIN:VEVENT
UID:34366430-3933-4365-b237-346563353465
DTSTAMP:20260424T171123Z
DESCRIPTION:This office hour is usually in-person and held by Felix.
DTSTART:20220620T110000Z
DTEND:20220620T120000Z
LOCATION:room 528 in E1.3
SUMMARY:Office Hour (in-person)
END:VEVENT
BEGIN:VEVENT
UID:65353338-6639-4632-a437-613539653431
DTSTAMP:20260424T171123Z
DESCRIPTION:This office hour is usually in-person and held by Laura.
DTSTART:20220621T070000Z
DTEND:20220621T080000Z
LOCATION:room 528 in E1.3
SUMMARY:Office Hour (in-person)
END:VEVENT
BEGIN:VEVENT
UID:39323463-3031-4637-b164-323930663030
DTSTAMP:20260424T171123Z
DESCRIPTION:This office hour is online in our MS Teams course and held by U
 rsela. (The Teams link will be in the materials section.)
DTSTART:20220623T150000Z
DTEND:20220623T160000Z
LOCATION:MS Teams
SUMMARY:Office Hour (online)
END:VEVENT
BEGIN:VEVENT
UID:64393835-6136-4464-b630-626537343832
DTSTAMP:20260424T171123Z
DESCRIPTION:This office hour is online and held by Kevin or Sarah. (The cod
 e for the Teams team is in the Materials section.)
DTSTART:20220624T120000Z
DTEND:20220624T130000Z
LOCATION:MS Teams
SUMMARY:Office Hour (online)
END:VEVENT
BEGIN:VEVENT
UID:33633363-3433-4836-b966-393262376437
DTSTAMP:20260424T171123Z
DESCRIPTION:This office hour is usually in-person and held by Felix.
DTSTART:20220627T110000Z
DTEND:20220627T120000Z
LOCATION:room 528 in E1.3
SUMMARY:Office Hour (in-person)
END:VEVENT
BEGIN:VEVENT
UID:66343535-6336-4361-a466-356436666664
DTSTAMP:20260424T171123Z
DESCRIPTION:This office hour is usually in-person and held by Laura.
DTSTART:20220628T070000Z
DTEND:20220628T080000Z
LOCATION:room 528 in E1.3
SUMMARY:Office Hour (in-person)
END:VEVENT
BEGIN:VEVENT
UID:66626265-3138-4436-a364-616437633636
DTSTAMP:20260424T171123Z
DESCRIPTION:This office hour is online in our MS Teams course and held by U
 rsela. (The Teams link will be in the materials section.)
DTSTART:20220630T150000Z
DTEND:20220630T160000Z
LOCATION:MS Teams
SUMMARY:Office Hour (online)
END:VEVENT
BEGIN:VEVENT
UID:62363033-3666-4136-b139-626366393433
DTSTAMP:20260424T171123Z
DESCRIPTION:This office hour is online and held by Kevin or Sarah. (The cod
 e for the Teams team is in the Materials section.)
DTSTART:20220701T120000Z
DTEND:20220701T130000Z
LOCATION:MS Teams
SUMMARY:Office Hour (online)
END:VEVENT
BEGIN:VEVENT
UID:62366237-6163-4164-a635-373334333163
DTSTAMP:20260424T171123Z
DESCRIPTION:This office hour is usually in-person and held by Felix.
DTSTART:20220704T110000Z
DTEND:20220704T120000Z
LOCATION:room 528 in E1.3
SUMMARY:Office Hour (in-person)
END:VEVENT
BEGIN:VEVENT
UID:34346230-3132-4130-b465-376238343231
DTSTAMP:20260424T171123Z
DESCRIPTION:This office hour is usually in-person and held by Laura.
DTSTART:20220705T070000Z
DTEND:20220705T080000Z
LOCATION:room 528 in E1.3
SUMMARY:Office Hour (in-person)
END:VEVENT
BEGIN:VEVENT
UID:35643339-6533-4237-b237-363238343730
DTSTAMP:20260424T171123Z
DESCRIPTION:This office hour is online in our MS Teams course and held by U
 rsela. (The Teams link will be in the materials section.)
DTSTART:20220707T150000Z
DTEND:20220707T160000Z
LOCATION:MS Teams
SUMMARY:Office Hour (online)
END:VEVENT
BEGIN:VEVENT
UID:30643130-3038-4361-b137-363061613563
DTSTAMP:20260424T171123Z
DESCRIPTION:This office hour is online and held by Kevin or Sarah. (The cod
 e for the Teams team is in the Materials section.)
DTSTART:20220708T120000Z
DTEND:20220708T130000Z
LOCATION:MS Teams
SUMMARY:Office Hour (online)
END:VEVENT
BEGIN:VEVENT
UID:38613239-6335-4739-a665-356161633533
DTSTAMP:20260424T171123Z
DESCRIPTION:This office hour is usually in-person and held by Felix.
DTSTART:20220711T110000Z
DTEND:20220711T120000Z
LOCATION:room 528 in E1.3
SUMMARY:Office Hour (in-person)
END:VEVENT
BEGIN:VEVENT
UID:61343266-3439-4135-b438-633830366431
DTSTAMP:20260424T171123Z
DESCRIPTION:This office hour is usually in-person and held by Laura.
DTSTART:20220712T070000Z
DTEND:20220712T080000Z
LOCATION:room 528 in E1.3
SUMMARY:Office Hour (in-person)
END:VEVENT
BEGIN:VEVENT
UID:30333032-3731-4333-b065-356337393930
DTSTAMP:20260424T171123Z
DESCRIPTION:This office hour is online in our MS Teams course and held by U
 rsela. (The Teams link will be in the materials section.)
DTSTART:20220714T150000Z
DTEND:20220714T160000Z
LOCATION:MS Teams
SUMMARY:Office Hour (online)
END:VEVENT
BEGIN:VEVENT
UID:61666230-3362-4037-b238-336438633037
DTSTAMP:20260424T171123Z
DESCRIPTION:This office hour is online and held by Kevin or Sarah. (The cod
 e for the Teams team is in the Materials section.)
DTSTART:20220715T120000Z
DTEND:20220715T130000Z
LOCATION:MS Teams
SUMMARY:Office Hour (online)
END:VEVENT
BEGIN:VEVENT
UID:35626532-6134-4739-b838-306137343931
DTSTAMP:20260424T171123Z
DESCRIPTION:This office hour is usually in-person and held by Felix.
DTSTART:20220718T110000Z
DTEND:20220718T120000Z
LOCATION:room 528 in E1.3
SUMMARY:Office Hour (in-person)
END:VEVENT
BEGIN:VEVENT
UID:63623539-3130-4139-b438-373237383239
DTSTAMP:20260424T171123Z
DESCRIPTION:This office hour is usually in-person and held by Laura.
DTSTART:20220719T070000Z
DTEND:20220719T080000Z
LOCATION:room 528 in E1.3
SUMMARY:Office Hour (in-person)
END:VEVENT
BEGIN:VEVENT
UID:34653762-3938-4366-b961-383836653134
DTSTAMP:20260424T171123Z
DESCRIPTION:This office hour is online in our MS Teams course and held by U
 rsela. (The Teams link will be in the materials section.)
DTSTART:20220721T150000Z
DTEND:20220721T160000Z
LOCATION:MS Teams
SUMMARY:Office Hour (online)
END:VEVENT
BEGIN:VEVENT
UID:33313539-3031-4562-b663-303764653038
DTSTAMP:20260424T171123Z
DESCRIPTION:This office hour is online and held by Kevin or Sarah. (The cod
 e for the Teams team is in the Materials section.)
DTSTART:20220722T120000Z
DTEND:20220722T130000Z
LOCATION:MS Teams
SUMMARY:Office Hour (online)
END:VEVENT
END:VCALENDAR
