BEGIN:VCALENDAR
VERSION:2.0
PRODID:-//127.0.1.1//NONSGML kigkonsult.se iCalcreator 2.41.92//
CALSCALE:GREGORIAN
METHOD:PUBLISH
UID:63666563-3362-4838-b338-343863323436
X-WR-CALNAME:Computer Ethics Calendar
X-WR-CALDESC:Events of the lecture Computer Ethics
X-WR-TIMEZONE:Europe/Berlin
BEGIN:VEVENT
UID:64376561-6532-4436-b033-366132313736
DTSTAMP:20260424T055315Z
DESCRIPTION:
DTSTART;VALUE=DATE:20220415
DTEND;VALUE=DATE:20220416
SUMMARY:Ce22: Public Holiday (Karfreitag)
END:VEVENT
BEGIN:VEVENT
UID:65323336-3736-4230-b233-386464306361
DTSTAMP:20260424T055315Z
DESCRIPTION:
DTSTART;VALUE=DATE:20220418
DTEND;VALUE=DATE:20220419
SUMMARY:Ce22: Public Holiday (Ostermontag)
END:VEVENT
BEGIN:VEVENT
UID:64326163-6166-4866-a139-373836653034
DTSTAMP:20260424T055315Z
DESCRIPTION:
DTSTART;VALUE=DATE:20220526
DTEND;VALUE=DATE:20220527
SUMMARY:Ce22: Public Holiday (Christi Himmelfahrt)
END:VEVENT
BEGIN:VEVENT
UID:65373038-6539-4363-a264-613333366266
DTSTAMP:20260424T055315Z
DESCRIPTION:An diesem Tag fällt das Tutorium aus. Bei dringenden Fragen ist
  Ursela per Mail zu erreichen\, und es gibt die Möglichkeit an den anderen
  Office Hours des Kurses Ethics for Nerds teilzunehmen.
DTSTART:20220527T160000Z
DTEND:20220527T170000Z
LOCATION:MS Teams
SUMMARY:Ce22: Tutorium deutsch (online)
END:VEVENT
BEGIN:VEVENT
UID:32333632-6232-4830-b032-656138353961
DTSTAMP:20260424T055315Z
DESCRIPTION:
DTSTART;VALUE=DATE:20220606
DTEND;VALUE=DATE:20220607
SUMMARY:Ce22: Public Holiday (Pfingstmontag)
END:VEVENT
BEGIN:VEVENT
UID:34386432-3830-4462-a266-646236643936
DTSTAMP:20260424T055315Z
DESCRIPTION:
DTSTART;VALUE=DATE:20220616
DTEND;VALUE=DATE:20220617
SUMMARY:Ce22: Public Holiday (Fronleichnam)
END:VEVENT
BEGIN:VEVENT
UID:65626530-3264-4039-b137-366130653862
DTSTAMP:20260424T055315Z
DESCRIPTION:Da dies ein Brückentag ist\, findet das Tutorium nur statt\, we
 nn Bedarf besteht. Solltet ihr an diesem Tag das Tutorium besuchen wollen\
 , meldet euch bitte bis zum 15.6. per Email bei Ursela.
DTSTART:20220617T160000Z
DTEND:20220617T170000Z
LOCATION:MS Teams
SUMMARY:Ce22: Tutorium deutsch (online)
END:VEVENT
END:VCALENDAR
