BEGIN:VCALENDAR
VERSION:2.0
PRODID:-//127.0.1.1//NONSGML kigkonsult.se iCalcreator 2.41.92//
CALSCALE:GREGORIAN
METHOD:PUBLISH
UID:35613031-6662-4035-b339-646238663138
X-WR-CALNAME:Computer Ethics Calendar
X-WR-CALDESC:Events of the lecture Computer Ethics
X-WR-TIMEZONE:Europe/Berlin
BEGIN:VEVENT
UID:30323962-3332-4638-b933-323765643263
DTSTAMP:20260422T170417Z
DESCRIPTION:Dieses Tutorium ist speziell für die LLM Studierenden und wird 
 in deutscher Sprache gehalten. Der Link zum Teams wird in den Kursmaterial
 ien zu finden sein.
DTSTART:20220422T160000Z
DTEND:20220422T170000Z
LOCATION:MS Teams
SUMMARY:Tutorium deutsch (online)
END:VEVENT
BEGIN:VEVENT
UID:65623732-6630-4832-b435-313064633836
DTSTAMP:20260422T170417Z
DESCRIPTION:Dieses Tutorium ist speziell für die LLM Studierenden und wird 
 in deutscher Sprache gehalten. Der Link zum Teams wird in den Kursmaterial
 ien zu finden sein.
DTSTART:20220429T160000Z
DTEND:20220429T170000Z
LOCATION:MS Teams
SUMMARY:Tutorium deutsch (online)
END:VEVENT
BEGIN:VEVENT
UID:62646439-3134-4531-b539-326131393236
DTSTAMP:20260422T170417Z
DESCRIPTION:Dieses Tutorium ist speziell für die LLM Studierenden und wird 
 in deutscher Sprache gehalten. Der Link zum Teams wird in den Kursmaterial
 ien zu finden sein.
DTSTART:20220506T160000Z
DTEND:20220506T170000Z
LOCATION:MS Teams
SUMMARY:Tutorium deutsch (online)
END:VEVENT
BEGIN:VEVENT
UID:37663934-3865-4662-a239-393836313031
DTSTAMP:20260422T170417Z
DESCRIPTION:Dieses Tutorium ist speziell für die LLM Studierenden und wird 
 in deutscher Sprache gehalten. Der Link zum Teams wird in den Kursmaterial
 ien zu finden sein.
DTSTART:20220513T160000Z
DTEND:20220513T170000Z
LOCATION:MS Teams
SUMMARY:Tutorium deutsch (online)
END:VEVENT
BEGIN:VEVENT
UID:39323062-3664-4536-a635-373433383834
DTSTAMP:20260422T170417Z
DESCRIPTION:Dieses Tutorium ist speziell für die LLM Studierenden und wird 
 in deutscher Sprache gehalten. Der Link zum Teams wird in den Kursmaterial
 ien zu finden sein.
DTSTART:20220520T160000Z
DTEND:20220520T170000Z
LOCATION:MS Teams
SUMMARY:Tutorium deutsch (online)
END:VEVENT
BEGIN:VEVENT
UID:36613165-3039-4934-b237-363837396433
DTSTAMP:20260422T170417Z
DESCRIPTION:Dieses Tutorium ist speziell für die LLM Studierenden und wird 
 in deutscher Sprache gehalten. Der Link zum Teams wird in den Kursmaterial
 ien zu finden sein.
DTSTART:20220603T160000Z
DTEND:20220603T170000Z
LOCATION:MS Teams
SUMMARY:Tutorium deutsch (online)
END:VEVENT
BEGIN:VEVENT
UID:62366133-6331-4631-a538-653738656665
DTSTAMP:20260422T170417Z
DESCRIPTION:Dieses Tutorium ist speziell für die LLM Studierenden und wird 
 in deutscher Sprache gehalten. Der Link zum Teams wird in den Kursmaterial
 ien zu finden sein.
DTSTART:20220610T160000Z
DTEND:20220610T170000Z
LOCATION:MS Teams
SUMMARY:Tutorium deutsch (online)
END:VEVENT
BEGIN:VEVENT
UID:30343264-6166-4564-b335-633933663164
DTSTAMP:20260422T170417Z
DESCRIPTION:Dieses Tutorium ist speziell für die LLM Studierenden und wird 
 in deutscher Sprache gehalten. Der Link zum Teams wird in den Kursmaterial
 ien zu finden sein.
DTSTART:20220624T160000Z
DTEND:20220624T170000Z
LOCATION:MS Teams
SUMMARY:Tutorium deutsch (online)
END:VEVENT
BEGIN:VEVENT
UID:38633064-3132-4632-b562-313939616461
DTSTAMP:20260422T170417Z
DESCRIPTION:Dieses Tutorium ist speziell für die LLM Studierenden und wird 
 in deutscher Sprache gehalten. Der Link zum Teams wird in den Kursmaterial
 ien zu finden sein.
DTSTART:20220701T160000Z
DTEND:20220701T170000Z
LOCATION:MS Teams
SUMMARY:Tutorium deutsch (online)
END:VEVENT
BEGIN:VEVENT
UID:62666132-6262-4130-a366-643065383831
DTSTAMP:20260422T170417Z
DESCRIPTION:Dieses Tutorium ist speziell für die LLM Studierenden und wird 
 in deutscher Sprache gehalten. Der Link zum Teams wird in den Kursmaterial
 ien zu finden sein.
DTSTART:20220708T160000Z
DTEND:20220708T170000Z
LOCATION:MS Teams
SUMMARY:Tutorium deutsch (online)
END:VEVENT
BEGIN:VEVENT
UID:65396433-3936-4331-b230-633461386335
DTSTAMP:20260422T170417Z
DESCRIPTION:Dieses Tutorium ist speziell für die LLM Studierenden und wird 
 in deutscher Sprache gehalten. Der Link zum Teams wird in den Kursmaterial
 ien zu finden sein.
DTSTART:20220715T160000Z
DTEND:20220715T170000Z
LOCATION:MS Teams
SUMMARY:Tutorium deutsch (online)
END:VEVENT
BEGIN:VEVENT
UID:35616165-3137-4531-b061-666130303965
DTSTAMP:20260422T170417Z
DESCRIPTION:Dieses Tutorium ist speziell für die LLM Studierenden und wird 
 in deutscher Sprache gehalten. Der Link zum Teams wird in den Kursmaterial
 ien zu finden sein.
DTSTART:20220722T160000Z
DTEND:20220722T170000Z
LOCATION:MS Teams
SUMMARY:Tutorium deutsch (online)
END:VEVENT
END:VCALENDAR
