BEGIN:VCALENDAR
VERSION:2.0
PRODID:-//127.0.1.1//NONSGML kigkonsult.se iCalcreator 2.41.92//
CALSCALE:GREGORIAN
METHOD:PUBLISH
UID:65656163-3661-4239-b938-363335313564
X-WR-CALNAME:Advanced Topics in Approximation Algorithms Calendar
X-WR-CALDESC:Events of the lecture Advanced Topics in Approximation Algorit
 hms
X-WR-TIMEZONE:Europe/Berlin
BEGIN:VEVENT
UID:39323134-3339-4566-a564-303263386464
DTSTAMP:20260423T174829Z
DESCRIPTION:When logged in\, you have a link to the meeting within the 'Inf
 ormation' menu.
DTSTART:20200514T090000Z
DTEND:20200514T110000Z
SUMMARY:Ataa: Zoom Meeting
END:VEVENT
END:VCALENDAR
