BEGIN:VCALENDAR
VERSION:2.0
PRODID:-//127.0.1.1//NONSGML kigkonsult.se iCalcreator 2.41.92//
CALSCALE:GREGORIAN
METHOD:PUBLISH
UID:35613933-3662-4261-a561-306265653464
X-WR-CALNAME:Advanced Topics in Approximation Algorithms Calendar
X-WR-CALDESC:Events of the lecture Advanced Topics in Approximation Algorit
 hms
X-WR-TIMEZONE:Europe/Berlin
BEGIN:VEVENT
UID:38323266-6437-4837-a164-336538333666
DTSTAMP:20260423T162711Z
DESCRIPTION:When logged in\, you have a link to the meeting within the 'Inf
 ormation' menu.
DTSTART:20200514T090000Z
DTEND:20200514T110000Z
SUMMARY:Zoom Meeting
END:VEVENT
END:VCALENDAR
